BEGIN:VCALENDAR
VERSION:2.0
PRODID:-//Sabre//Sabre VObject 4.5.8//EN
CALSCALE:GREGORIAN
BEGIN:VEVENT
UID:sabre-vobject-b778ec5b-2df1-4707-8d03-00947aa41c37
DTSTAMP:20260424T110156Z
SUMMARY:Segensfeier für Schwangere
DESCRIPTION:https://pg-senden.de/segensfeier-fuer-schwangere_id44930
DTSTART;TZID=Europe/Berlin:20260510T160000
DTEND;TZID=Europe/Berlin:20260510T170000
END:VEVENT
END:VCALENDAR
