BEGIN:VCALENDAR
VERSION:2.0
PRODID:-//Sabre//Sabre VObject 4.5.8//EN
CALSCALE:GREGORIAN
BEGIN:VEVENT
UID:sabre-vobject-42bd0016-acca-4d8c-98db-09e6563aba3a
DTSTAMP:20260425T141710Z
SUMMARY:Maiandacht
DESCRIPTION:https://pg-senden.de/maiandacht_id44466
DTSTART;TZID=Europe/Berlin:20260503T180000
DURATION:PT30M
LOCATION:Kirche St. Johannes Baptist Aufheim\, Widhumweg 5\, 89250 Aufheim
END:VEVENT
END:VCALENDAR
