BEGIN:VCALENDAR
VERSION:2.0
PRODID:-//Sabre//Sabre VObject 4.5.8//EN
CALSCALE:GREGORIAN
BEGIN:VEVENT
UID:sabre-vobject-c0e494cf-9fd2-40f4-b636-2ed59df0c1b4
DTSTAMP:20260425T125503Z
SUMMARY:Rosenkranz
DESCRIPTION:https://pg-senden.de/rosenkranz_id44465
DTSTART;TZID=Europe/Berlin:20260506T180000
DURATION:PT30M
LOCATION:Kirche Mariä Geburt Witzighausen\, Marienstraße 2\, 89250 Witzig
 hausen
END:VEVENT
END:VCALENDAR
