BEGIN:VCALENDAR
VERSION:2.0
PRODID:-//Sabre//Sabre VObject 4.5.8//EN
CALSCALE:GREGORIAN
BEGIN:VEVENT
UID:sabre-vobject-0ee18e60-876d-48bf-a50a-5c703a7b728d
DTSTAMP:20260423T150244Z
SUMMARY:Pfarrgottesdienst St. Josef
DESCRIPTION:https://pg-senden.de/pfarrgottesdienst-st-josef_id44463
DTSTART;TZID=Europe/Berlin:20260510T100000
DURATION:PT30M
LOCATION:Kirche St. Josef der Arbeiter Senden\, Zeisestraße 20\, 89250 Se
 nden
END:VEVENT
END:VCALENDAR
