BEGIN:VCALENDAR
VERSION:2.0
PRODID:-//Sabre//Sabre VObject 4.5.8//EN
CALSCALE:GREGORIAN
BEGIN:VEVENT
UID:sabre-vobject-cd2fb8b0-1fc5-4cdc-933d-fd9e84cec586
DTSTAMP:20260425T103014Z
SUMMARY:Rosenkranz St. Josef
DESCRIPTION:https://pg-senden.de/rosenkranz-st-josef_id44453
DTSTART;TZID=Europe/Berlin:20260505T175000
DURATION:PT30M
LOCATION:Kirche St. Josef der Arbeiter Senden\, Zeisestraße 20\, 89250 Se
 nden
END:VEVENT
END:VCALENDAR
