BEGIN:VCALENDAR
VERSION:2.0
PRODID:-//Sabre//Sabre VObject 4.5.8//EN
CALSCALE:GREGORIAN
BEGIN:VEVENT
UID:sabre-vobject-04457b3b-b0cd-4a0e-963f-eb64c5662bde
DTSTAMP:20260425T131333Z
SUMMARY:Kinderkirche HdB
DESCRIPTION:https://pg-senden.de/kinderkirche-hdb_id44452
DTSTART;TZID=Europe/Berlin:20260503T100000
DURATION:PT30M
LOCATION:Kirche St. Josef der Arbeiter Senden\, Zeisestraße 20\, 89250 Se
 nden
END:VEVENT
END:VCALENDAR
