BEGIN:VCALENDAR
VERSION:2.0
PRODID:-//Sabre//Sabre VObject 4.5.8//EN
CALSCALE:GREGORIAN
BEGIN:VEVENT
UID:sabre-vobject-36374d10-a718-495f-8a1e-05a5081c28b5
DTSTAMP:20260423T121244Z
SUMMARY:Maiandacht
DESCRIPTION:https://pg-senden.de/maiandacht_id44451
DTSTART;TZID=Europe/Berlin:20260510T180000
DURATION:PT30M
LOCATION:Kirche Maria Königin Gerlenhofen\, Freudenegger Straße 7\, 8925
 0 Gerlenhofen
END:VEVENT
END:VCALENDAR
