BEGIN:VCALENDAR
VERSION:2.0
PRODID:-//Sabre//Sabre VObject 4.5.8//EN
CALSCALE:GREGORIAN
BEGIN:VEVENT
UID:sabre-vobject-3eb9c561-ebe6-4003-b555-9d5002063958
DTSTAMP:20260425T103343Z
SUMMARY:Heilige Messe
DESCRIPTION:https://pg-senden.de/heilige-messe_id44450
DTSTART;TZID=Europe/Berlin:20260506T083000
DURATION:PT30M
LOCATION:Kirche Maria Königin Gerlenhofen\, Freudenegger Straße 7\, 8925
 0 Gerlenhofen
END:VEVENT
END:VCALENDAR
