BEGIN:VCALENDAR
VERSION:2.0
PRODID:-//Sabre//Sabre VObject 4.5.8//EN
CALSCALE:GREGORIAN
BEGIN:VEVENT
UID:sabre-vobject-cfd24070-4896-4500-877b-8fb26cbe2c82
DTSTAMP:20260425T131437Z
SUMMARY:Heilige Messe
DESCRIPTION:https://pg-senden.de/heilige-messe_id44445
DTSTART;TZID=Europe/Berlin:20260508T083000
DURATION:PT30M
LOCATION:Kirche Mariä Verkündigung Wullenstetten\, Heerstraße 1\, 89250 
 Wullenstetten
END:VEVENT
END:VCALENDAR
