BEGIN:VCALENDAR
VERSION:2.0
PRODID:-//Sabre//Sabre VObject 4.5.8//EN
CALSCALE:GREGORIAN
BEGIN:VEVENT
UID:sabre-vobject-cca1a71f-aa1d-446b-8b15-bae15750d24f
DTSTAMP:20260425T115506Z
SUMMARY:Rosenkranz
DESCRIPTION:https://pg-senden.de/rosenkranz_id44444
DTSTART;TZID=Europe/Berlin:20260508T080000
DURATION:PT30M
LOCATION:Kirche Mariä Verkündigung Wullenstetten\, Heerstraße 1\, 89250 
 Wullenstetten
END:VEVENT
END:VCALENDAR
