BEGIN:VCALENDAR
VERSION:2.0
PRODID:-//Sabre//Sabre VObject 4.5.8//EN
CALSCALE:GREGORIAN
BEGIN:VEVENT
UID:sabre-vobject-22417841-7da0-4607-b4cb-23c4fc7fe966
DTSTAMP:20260425T103049Z
SUMMARY:Pfarrgottesdienst
DESCRIPTION:https://pg-senden.de/pfarrgottesdienst_id44440
DTSTART;TZID=Europe/Berlin:20260510T083000
DURATION:PT30M
LOCATION:Kirche Mariä Geburt Witzighausen\, Marienstraße 2\, 89250 Witzig
 hausen
END:VEVENT
END:VCALENDAR
