BEGIN:VCALENDAR
VERSION:2.0
PRODID:-//Sabre//Sabre VObject 4.5.8//EN
CALSCALE:GREGORIAN
BEGIN:VEVENT
UID:sabre-vobject-886098b5-6515-4cc5-a575-7ae22fc27517
DTSTAMP:20260425T115126Z
SUMMARY:Heilige Messe
DESCRIPTION:https://pg-senden.de/heilige-messe_id44438
DTSTART;TZID=Europe/Berlin:20260507T083000
DURATION:PT30M
LOCATION:Kirche Mariä Geburt Witzighausen\, Marienstraße 2\, 89250 Witzig
 hausen
END:VEVENT
END:VCALENDAR
