BEGIN:VCALENDAR
VERSION:2.0
PRODID:-//Sabre//Sabre VObject 4.5.8//EN
CALSCALE:GREGORIAN
BEGIN:VEVENT
UID:sabre-vobject-6c050a0a-cf66-4901-8e55-f02952cf1a01
DTSTAMP:20260425T131336Z
SUMMARY:Heilige Messe
DESCRIPTION:https://pg-senden.de/heilige-messe_id44435
DTSTART;TZID=Europe/Berlin:20260505T083000
DURATION:PT30M
LOCATION:Kirche St. Johannes Baptist Aufheim\, Widhumweg 5\, 89250 Aufheim
END:VEVENT
END:VCALENDAR
