BEGIN:VCALENDAR
VERSION:2.0
PRODID:-//Sabre//Sabre VObject 4.5.8//EN
CALSCALE:GREGORIAN
BEGIN:VEVENT
UID:sabre-vobject-97af82d8-0f9a-442d-9554-2e815b2bc354
DTSTAMP:20260425T144527Z
SUMMARY:Rosenkranz
DESCRIPTION:https://pg-senden.de/rosenkranz_id44434
DTSTART;TZID=Europe/Berlin:20260505T080000
DURATION:PT30M
LOCATION:Kirche St. Johannes Baptist Aufheim\, Widhumweg 5\, 89250 Aufheim
END:VEVENT
END:VCALENDAR
