BEGIN:VCALENDAR
VERSION:2.0
PRODID:-//Sabre//Sabre VObject 4.5.8//EN
CALSCALE:GREGORIAN
BEGIN:VEVENT
UID:sabre-vobject-eef13e96-9109-479d-9317-99c9cdda74e1
DTSTAMP:20260425T125121Z
SUMMARY:Pfarrgottesdienst St. Josef
DESCRIPTION:https://pg-senden.de/pfarrgottesdienst-st-josef_id44433
DTSTART;TZID=Europe/Berlin:20260503T100000
DURATION:PT30M
LOCATION:Kirche St. Josef der Arbeiter Senden\, Zeisestraße 20\, 89250 Se
 nden
END:VEVENT
END:VCALENDAR
