BEGIN:VCALENDAR
VERSION:2.0
PRODID:-//Sabre//Sabre VObject 4.5.8//EN
CALSCALE:GREGORIAN
BEGIN:VEVENT
UID:sabre-vobject-a348ec23-ab79-49d9-bb0d-10127d6674a4
DTSTAMP:20260423T154635Z
SUMMARY:Heilige Messe
DESCRIPTION:https://pg-senden.de/heilige-messe_id44423
DTSTART;TZID=Europe/Berlin:20260430T083000
DURATION:PT30M
LOCATION:Kirche Mariä Geburt Witzighausen\, Marienstraße 2\, 89250 Witzig
 hausen
END:VEVENT
END:VCALENDAR
