BEGIN:VCALENDAR
VERSION:2.0
PRODID:-//Sabre//Sabre VObject 4.5.8//EN
CALSCALE:GREGORIAN
BEGIN:VEVENT
UID:sabre-vobject-00fe99f7-4ebd-48c9-aa00-9d3f9147f74f
DTSTAMP:20260423T162748Z
SUMMARY:Rosenkranz
DESCRIPTION:https://pg-senden.de/rosenkranz_id44418
DTSTART;TZID=Europe/Berlin:20260429T180000
DURATION:PT30M
LOCATION:Kirche Mariä Verkündigung Wullenstetten\, Heerstraße 1\, 89250 
 Wullenstetten
END:VEVENT
END:VCALENDAR
