BEGIN:VCALENDAR
VERSION:2.0
PRODID:-//Sabre//Sabre VObject 4.5.8//EN
CALSCALE:GREGORIAN
BEGIN:VEVENT
UID:sabre-vobject-fd24a5e4-4dfd-46d0-bae6-0b79fc479a35
DTSTAMP:20260425T104245Z
SUMMARY:Rosenkranz
DESCRIPTION:https://pg-senden.de/rosenkranz_id44417
DTSTART;TZID=Europe/Berlin:20260428T180000
DURATION:PT30M
LOCATION:Kirche Mariä Verkündigung Wullenstetten\, Heerstraße 1\, 89250 
 Wullenstetten
END:VEVENT
END:VCALENDAR
