BEGIN:VCALENDAR
VERSION:2.0
PRODID:-//Sabre//Sabre VObject 4.5.8//EN
CALSCALE:GREGORIAN
BEGIN:VEVENT
UID:sabre-vobject-e1d1d811-5006-47ed-b617-b2fbb1499421
DTSTAMP:20260423T200104Z
SUMMARY:Festgottesdienst St. Josef z. Patrozinium anschl. Kirchenkaffee
DESCRIPTION:https://pg-senden.de/festgottesdienst-st-josef-z-patrozinium-an
 schl-kirchenkaffee_id44413
DTSTART;TZID=Europe/Berlin:20260501T100000
DURATION:PT30M
LOCATION:Kirche St. Josef der Arbeiter Senden\, Zeisestraße 20\, 89250 Se
 nden
END:VEVENT
END:VCALENDAR
