BEGIN:VCALENDAR
VERSION:2.0
PRODID:-//Sabre//Sabre VObject 4.5.8//EN
CALSCALE:GREGORIAN
BEGIN:VEVENT
UID:sabre-vobject-6c908e60-8c0f-41f2-b446-0ff2dbf33b0b
DTSTAMP:20260423T172552Z
SUMMARY:Rosenkranz St. Jodok
DESCRIPTION:https://pg-senden.de/rosenkranz-st-jodok_id44411
DTSTART;TZID=Europe/Berlin:20260429T175000
DURATION:PT30M
LOCATION:Kirche St. Jodok Senden\, St.-Jodok-Weg 10\, 89250 Senden
END:VEVENT
END:VCALENDAR
