BEGIN:VCALENDAR
VERSION:2.0
PRODID:-//Sabre//Sabre VObject 4.5.8//EN
CALSCALE:GREGORIAN
BEGIN:VEVENT
UID:sabre-vobject-d5c41d16-826d-445c-b0da-0444e9592a49
DTSTAMP:20260425T113519Z
SUMMARY:Heilige Messe St. Josef
DESCRIPTION:https://pg-senden.de/heilige-messe-st-josef_id44408
DTSTART;TZID=Europe/Berlin:20260428T183000
DURATION:PT30M
LOCATION:Kirche St. Josef der Arbeiter Senden\, Zeisestraße 20\, 89250 Se
 nden
END:VEVENT
END:VCALENDAR
