BEGIN:VCALENDAR
VERSION:2.0
PRODID:-//Sabre//Sabre VObject 4.5.8//EN
CALSCALE:GREGORIAN
BEGIN:VEVENT
UID:sabre-vobject-d6784bfb-e1fb-4976-b878-ae8e5ebf31dd
DTSTAMP:20260423T145754Z
SUMMARY:Sonntgl. Vorabendmesse
DESCRIPTION:https://pg-senden.de/sonntgl-vorabendmesse_id44406
DTSTART;TZID=Europe/Berlin:20260425T183000
DURATION:PT30M
LOCATION:Kirche Maria Königin Gerlenhofen\, Freudenegger Straße 7\, 8925
 0 Gerlenhofen
END:VEVENT
END:VCALENDAR
