BEGIN:VCALENDAR
VERSION:2.0
PRODID:-//Sabre//Sabre VObject 4.5.8//EN
CALSCALE:GREGORIAN
BEGIN:VEVENT
UID:sabre-vobject-ada8eeb0-2681-4c43-815f-9482064d2f6a
DTSTAMP:20260423T163906Z
SUMMARY:Erstkommunionfeier
DESCRIPTION:https://pg-senden.de/erstkommunionfeier_id44402
DTSTART;TZID=Europe/Berlin:20260426T100000
DURATION:PT30M
LOCATION:Kirche St. Johannes Baptist Aufheim\, Widhumweg 5\, 89250 Aufheim
END:VEVENT
END:VCALENDAR
