BEGIN:VCALENDAR
VERSION:2.0
PRODID:-//Sabre//Sabre VObject 4.5.8//EN
CALSCALE:GREGORIAN
BEGIN:VEVENT
UID:sabre-vobject-6ee9988b-47a6-4c08-88a4-5a396a9644a9
DTSTAMP:20260423T115253Z
SUMMARY:Pfarrgottesdienst
DESCRIPTION:https://pg-senden.de/pfarrgottesdienst_id44401
DTSTART;TZID=Europe/Berlin:20260426T083000
DURATION:PT30M
LOCATION:Kirche Mariä Verkündigung Wullenstetten\, Heerstraße 1\, 89250 
 Wullenstetten
END:VEVENT
END:VCALENDAR
