BEGIN:VCALENDAR
VERSION:2.0
PRODID:-//Sabre//Sabre VObject 4.5.8//EN
CALSCALE:GREGORIAN
BEGIN:VEVENT
UID:sabre-vobject-d8f3d5de-3281-40a3-a8a0-053e02610f02
DTSTAMP:20260423T181233Z
SUMMARY:Pfarrgottesdienst St. Josef
DESCRIPTION:https://pg-senden.de/pfarrgottesdienst-st-josef_id44400
DTSTART;TZID=Europe/Berlin:20260426T100000
DURATION:PT30M
LOCATION:Kirche St. Josef der Arbeiter Senden\, Zeisestraße 20\, 89250 Se
 nden
END:VEVENT
END:VCALENDAR
