BEGIN:VCALENDAR
VERSION:2.0
PRODID:-//Sabre//Sabre VObject 4.5.8//EN
CALSCALE:GREGORIAN
BEGIN:VEVENT
UID:sabre-vobject-165c2f61-d8f0-4632-9493-eb59626c15e9
DTSTAMP:20260423T195924Z
SUMMARY:Andacht mit anschl. Frühlingsfest d. Senioren
DESCRIPTION:https://pg-senden.de/andacht-mit-anschl-fruehlingsfest-d-senior
 en_id44396
DTSTART;TZID=Europe/Berlin:20260426T140000
DURATION:PT30M
LOCATION:Kirche Maria Königin Gerlenhofen\, Freudenegger Straße 7\, 8925
 0 Gerlenhofen
END:VEVENT
END:VCALENDAR
