BEGIN:VCALENDAR
VERSION:2.0
PRODID:-//Sabre//Sabre VObject 4.5.8//EN
CALSCALE:GREGORIAN
BEGIN:VEVENT
UID:sabre-vobject-7fa2d3eb-098b-4d45-9425-ce9198357f3d
DTSTAMP:20260420T115610Z
SUMMARY:Konzert des KreisChor Iller
DESCRIPTION:https://pg-senden.de/konzert-des-kreischor-iller_id44312
DTSTART;TZID=Europe/Berlin:20260426T190000
DTEND;TZID=Europe/Berlin:20260426T210000
LOCATION:Kirche St. Jodok Senden\, St.-Jodok-Weg 10\, 89250 Senden
END:VEVENT
END:VCALENDAR
